BEGIN:VCALENDAR
VERSION:2.0
PRODID:-//Gamma Pi Lambda - ECPv6.15.12.2//NONSGML v1.0//EN
CALSCALE:GREGORIAN
METHOD:PUBLISH
X-WR-CALNAME:Gamma Pi Lambda
X-ORIGINAL-URL:https://gamma-pi-lambda.com
X-WR-CALDESC:Events for Gamma Pi Lambda
REFRESH-INTERVAL;VALUE=DURATION:PT1H
X-Robots-Tag:noindex
X-PUBLISHED-TTL:PT1H
BEGIN:VTIMEZONE
TZID:America/Chicago
BEGIN:DAYLIGHT
TZOFFSETFROM:-0600
TZOFFSETTO:-0500
TZNAME:CDT
DTSTART:20170312T080000
END:DAYLIGHT
BEGIN:STANDARD
TZOFFSETFROM:-0500
TZOFFSETTO:-0600
TZNAME:CST
DTSTART:20171105T070000
END:STANDARD
BEGIN:DAYLIGHT
TZOFFSETFROM:-0600
TZOFFSETTO:-0500
TZNAME:CDT
DTSTART:20180311T080000
END:DAYLIGHT
BEGIN:STANDARD
TZOFFSETFROM:-0500
TZOFFSETTO:-0600
TZNAME:CST
DTSTART:20181104T070000
END:STANDARD
BEGIN:DAYLIGHT
TZOFFSETFROM:-0600
TZOFFSETTO:-0500
TZNAME:CDT
DTSTART:20190310T080000
END:DAYLIGHT
BEGIN:STANDARD
TZOFFSETFROM:-0500
TZOFFSETTO:-0600
TZNAME:CST
DTSTART:20191103T070000
END:STANDARD
BEGIN:DAYLIGHT
TZOFFSETFROM:-0600
TZOFFSETTO:-0500
TZNAME:CDT
DTSTART:20200308T080000
END:DAYLIGHT
BEGIN:STANDARD
TZOFFSETFROM:-0500
TZOFFSETTO:-0600
TZNAME:CST
DTSTART:20201101T070000
END:STANDARD
END:VTIMEZONE
BEGIN:VEVENT
DTSTART;TZID=America/Chicago:20190518T110000
DTEND;TZID=America/Chicago:20190518T150000
DTSTAMP:20260424T035251
CREATED:20180914T202220Z
LAST-MODIFIED:20180914T202220Z
UID:2477-1558177200-1558191600@gamma-pi-lambda.com
SUMMARY:Annual Ennis Williams\, Jr. Memorial Scholarship Luncheon
DESCRIPTION:
URL:https://gamma-pi-lambda.com/event/annual-ennis-williams-jr-memorial-scholarship-luncheon/
END:VEVENT
BEGIN:VEVENT
DTSTART;TZID=America/Chicago:20190514T183000
DTEND;TZID=America/Chicago:20190514T203000
DTSTAMP:20260424T035251
CREATED:20180728T001755Z
LAST-MODIFIED:20180927T215248Z
UID:2417-1557858600-1557865800@gamma-pi-lambda.com
SUMMARY:Chapter Meeting - May 2019
DESCRIPTION:Old Central Cultural Center
URL:https://gamma-pi-lambda.com/event/chapter-meeting-september-2018/
LOCATION:Old Central H.S. Cultural Center\, Galveston\, 2627 Avenue M\, Galveston\, tx\, 77550
ATTACH;FMTTYPE=image/jpeg:https://gamma-pi-lambda.com/wp-content/uploads/2018/01/EventSepartor.jpg
END:VEVENT
BEGIN:VEVENT
DTSTART;TZID=America/Chicago:20190409T183000
DTEND;TZID=America/Chicago:20190409T203000
DTSTAMP:20260424T035251
CREATED:20180728T010016Z
LAST-MODIFIED:20180927T215200Z
UID:2446-1554834600-1554841800@gamma-pi-lambda.com
SUMMARY:Chapter Meeting - April 2019
DESCRIPTION:Old Central Cultural Center
URL:https://gamma-pi-lambda.com/event/chapter-meeting-april-2018/
LOCATION:Old Central H.S. Cultural Center\, Galveston\, 2627 Avenue M\, Galveston\, tx\, 77550
ATTACH;FMTTYPE=image/jpeg:https://gamma-pi-lambda.com/wp-content/uploads/2018/01/EventSepartor.jpg
END:VEVENT
BEGIN:VEVENT
DTSTART;VALUE=DATE:20190404
DTEND;VALUE=DATE:20190408
DTSTAMP:20260424T035251
CREATED:20181112T034944Z
LAST-MODIFIED:20181112T034944Z
UID:2566-1554336000-1554681599@gamma-pi-lambda.com
SUMMARY:73rd Annual Alpha Phi Alpha Southwestern Regional  Convention - Houston
DESCRIPTION:Dear Brothers of the Southwestern Region: \nThis is the official convention call for you to attend the 73 rd Annual Southwestern Regional Convention. General President Dr. Everett Ward has urged all Alpha Men to be active in the movement of change\, with his beacon call of the “Urgency of Now” . Our convention will build upon this message of activism as we leave our mark in the “Lone Star State”. The theme for the 73 rd Annual convention is: \nMoving Forward: Alpha Advocacy in Action. It is my hope that following your attendance at the convention\, you will be inspired to return to your communities and do more. \nAt the 2018 Fall Retreat\, the Southwestern Regional Priorities were introduced and they will serve as the focus our convention training offers. The regional priorities are as follows: \n  \n\nPriority #1- Ensuring our health safety and wellbeing\nPriority #2- Expanding educational opportunities\nPriority #3- Transforming outcomes and increasing organizational efficiency\nPriority #4- Cultivating talent and brotherhood\n\n  \nThe 73 rd Annual Southwestern Regional will be held April 4 – 7\, 2019\, in Houston\, Texas. The host hotel will be the Hyatt Hotel in Downtown Houston. All business meetings and meal functions will occur at the Hyatt. The room rates for the convention are $139 per night with free internet and convenient covered parking near the hotel. \nThe various early bird registrations begin October 1\, 2018\, and will run through December 31\, 2018\, followed by regular and late registration options. We are honored to offer our “50 year Brothers a flat registration rate throughout the various registration periods. Registration will end on March 31\, 2019\, with no onsite registration option. \nThe host chapters of Xi Eta Lambda and Theta Mu chapters are planning an informative and entertaining convention for you and your special guests. Brothers\, this convention promises to be a well-planned and memorable event for all. We look forward to seeing you in Houston Texas.\n\nAlphanet Registration <LINK>\n\nFraternally\,\n 
URL:https://gamma-pi-lambda.com/event/73rd-annual-alpha-phi-alpha-southwestern-regional-convention-houston/
END:VEVENT
BEGIN:VEVENT
DTSTART;TZID=America/Chicago:20190312T183000
DTEND;TZID=America/Chicago:20190312T203000
DTSTAMP:20260424T035251
CREATED:20180728T005801Z
LAST-MODIFIED:20180927T215103Z
UID:2444-1552415400-1552422600@gamma-pi-lambda.com
SUMMARY:Chapter Meeting - March 2019
DESCRIPTION:Old Central Cultural Center
URL:https://gamma-pi-lambda.com/event/chapter-meeting-march-2018/
LOCATION:Old Central H.S. Cultural Center\, Galveston\, 2627 Avenue M\, Galveston\, tx\, 77550
ATTACH;FMTTYPE=image/jpeg:https://gamma-pi-lambda.com/wp-content/uploads/2018/01/EventSepartor.jpg
END:VEVENT
BEGIN:VEVENT
DTSTART;TZID=America/Chicago:20190227T112000
DTEND;TZID=America/Chicago:20190227T133000
DTSTAMP:20260424T035251
CREATED:20190220T172325Z
LAST-MODIFIED:20190220T172325Z
UID:3376-1551266400-1551274200@gamma-pi-lambda.com
SUMMARY:Gentlemen's Club - Media Arts Academies @Central Middle School  -  Wednesday\, February 27\, 2018 @ 11:20 am
DESCRIPTION:
URL:https://gamma-pi-lambda.com/event/gentlemens-club-media-arts-academies-central-middle-school-wednesday-february-27-2018-1120-am/
END:VEVENT
BEGIN:VEVENT
DTSTART;VALUE=DATE:20190222
DTEND;VALUE=DATE:20190223
DTSTAMP:20260424T035251
CREATED:20181008T135043Z
LAST-MODIFIED:20181008T135043Z
UID:2520-1550793600-1550879999@gamma-pi-lambda.com
SUMMARY:Mardi Gras Begins
DESCRIPTION:
URL:https://gamma-pi-lambda.com/event/mardi-gras-begins/
END:VEVENT
BEGIN:VEVENT
DTSTART;VALUE=DATE:20190214
DTEND;VALUE=DATE:20190218
DTSTAMP:20260424T035251
CREATED:20181112T043151Z
LAST-MODIFIED:20181112T043251Z
UID:2574-1550102400-1550447999@gamma-pi-lambda.com
SUMMARY:Thur. 2/14/2019 to Sun. 2/17/2019  – TCAC Convention\,  Sheraton Arlington Hotel
DESCRIPTION:TCAC Convention
URL:https://gamma-pi-lambda.com/event/thur-2-14-2019-to-sun-2-17-2019-tcac-convention-sheraton-arlington-hotel/
END:VEVENT
BEGIN:VEVENT
DTSTART;TZID=America/Chicago:20190212T183000
DTEND;TZID=America/Chicago:20190212T203000
DTSTAMP:20260424T035251
CREATED:20180728T005551Z
LAST-MODIFIED:20180927T215003Z
UID:2442-1549996200-1550003400@gamma-pi-lambda.com
SUMMARY:Chapter Meeting - February 2019
DESCRIPTION:Old Central Cultural Center
URL:https://gamma-pi-lambda.com/event/chapter-meeting-february-2018/
LOCATION:Old Central H.S. Cultural Center\, Galveston\, 2627 Avenue M\, Galveston\, tx\, 77550
ATTACH;FMTTYPE=image/jpeg:https://gamma-pi-lambda.com/wp-content/uploads/2018/01/EventSepartor.jpg
END:VEVENT
BEGIN:VEVENT
DTSTART;TZID=America/Chicago:20190202T210000
DTEND;TZID=America/Chicago:20190202T233000
DTSTAMP:20260424T035251
CREATED:20180914T202710Z
LAST-MODIFIED:20190130T050520Z
UID:2479-1549141200-1549150200@gamma-pi-lambda.com
SUMMARY:Pre-Superbowl Celebration
DESCRIPTION:Old Central Cultural Center \n9 pm – 1 am
URL:https://gamma-pi-lambda.com/event/pre-superbowl-celebration/
END:VEVENT
BEGIN:VEVENT
DTSTART;TZID=America/Chicago:20190108T183000
DTEND;TZID=America/Chicago:20190108T203000
DTSTAMP:20260424T035251
CREATED:20180728T005148Z
LAST-MODIFIED:20181225T035418Z
UID:2440-1546972200-1546979400@gamma-pi-lambda.com
SUMMARY:Chapter Meeting - January 8\, 2019
DESCRIPTION:Old Central Cultural Center
URL:https://gamma-pi-lambda.com/event/chapter-meeting-january-2018/
LOCATION:Old Central H.S. Cultural Center\, Galveston\, 2627 Avenue M\, Galveston\, tx\, 77550
ATTACH;FMTTYPE=image/jpeg:https://gamma-pi-lambda.com/wp-content/uploads/2018/01/EventSepartor.jpg
END:VEVENT
BEGIN:VEVENT
DTSTART;TZID=America/Chicago:20181211T183000
DTEND;TZID=America/Chicago:20181211T203000
DTSTAMP:20260424T035251
CREATED:20180728T004840Z
LAST-MODIFIED:20180927T214736Z
UID:2438-1544553000-1544560200@gamma-pi-lambda.com
SUMMARY:Chapter Meeting - December 2018
DESCRIPTION:Old Central Cultural Center
URL:https://gamma-pi-lambda.com/event/chapter-meeting-december-2018/
ATTACH;FMTTYPE=image/jpeg:https://gamma-pi-lambda.com/wp-content/uploads/2018/01/EventSepartor.jpg
END:VEVENT
BEGIN:VEVENT
DTSTART;TZID=America/Chicago:20181202T100000
DTEND;TZID=America/Chicago:20181202T170000
DTSTAMP:20260424T035251
CREATED:20180914T200721Z
LAST-MODIFIED:20181008T133423Z
UID:2473-1543744800-1543770000@gamma-pi-lambda.com
SUMMARY:Founder's Day Celebration
DESCRIPTION:Dinner will be held at the Hilton Galveston Resort Hotel \nEcumenical Services (Time / Place) TBD \nBrother John Henry Clouser – Gamma Pi Lambda’s First President\n  \n  \n 
URL:https://gamma-pi-lambda.com/event/founders-day-celebration/
END:VEVENT
BEGIN:VEVENT
DTSTART;TZID=America/Chicago:20181114T114500
DTEND;TZID=America/Chicago:20181114T133000
DTSTAMP:20260424T035251
CREATED:20181112T041902Z
LAST-MODIFIED:20181112T041902Z
UID:2572-1542195900-1542202200@gamma-pi-lambda.com
SUMMARY:Gentlemen's Club - Media Arts Academies @Central Middle School  -  Wednesday\, November 14\, 2018
DESCRIPTION:Topic: “Paying Attention”
URL:https://gamma-pi-lambda.com/event/gentlemens-club-media-arts-academies-central-middle-school-wednesday-november-14-2018/
LOCATION:Media Arts Academy (Central Middle School)\, 3014 Sealy Ave\, Galveston\, TX 77550\, Galveston\, 77550\, United States
END:VEVENT
BEGIN:VEVENT
DTSTART;TZID=America/Chicago:20181113T183000
DTEND;TZID=America/Chicago:20181113T203000
DTSTAMP:20260424T035251
CREATED:20180728T003810Z
LAST-MODIFIED:20180927T214619Z
UID:2436-1542133800-1542141000@gamma-pi-lambda.com
SUMMARY:Chapter Meeting - November 2018
DESCRIPTION:Old Central Cultural Center
URL:https://gamma-pi-lambda.com/event/chapter-meeting-november-2018/
LOCATION:Old Central H.S. Cultural Center\, Galveston\, 2627 Avenue M\, Galveston\, tx\, 77550
ATTACH;FMTTYPE=image/jpeg:https://gamma-pi-lambda.com/wp-content/uploads/2018/01/EventSepartor.jpg
END:VEVENT
BEGIN:VEVENT
DTSTART;VALUE=DATE:20181106
DTEND;VALUE=DATE:20181107
DTSTAMP:20260424T035251
CREATED:20180922T160131Z
LAST-MODIFIED:20180922T160210Z
UID:2492-1541462400-1541548799@gamma-pi-lambda.com
SUMMARY:Election Day
DESCRIPTION:
URL:https://gamma-pi-lambda.com/event/election-day/
END:VEVENT
BEGIN:VEVENT
DTSTART;TZID=America/Chicago:20181028T000000
DTEND;TZID=America/Chicago:20181028T000000
DTSTAMP:20260424T035251
CREATED:20180920T051141Z
LAST-MODIFIED:20180920T051607Z
UID:2485-1540684800-1540684800@gamma-pi-lambda.com
SUMMARY:Souls 2 the Polls Campaign
DESCRIPTION:Get Out the VOTE!\n  \n  \n  \n 
URL:https://gamma-pi-lambda.com/event/souls-2-the-polls-campaign/
END:VEVENT
BEGIN:VEVENT
DTSTART;TZID=America/Chicago:20181010T122000
DTEND;TZID=America/Chicago:20181010T130000
DTSTAMP:20260424T035251
CREATED:20180923T033529Z
LAST-MODIFIED:20180923T033529Z
UID:2496-1539174000-1539176400@gamma-pi-lambda.com
SUMMARY:Gentlemen's Club Mentoring Session
DESCRIPTION:
URL:https://gamma-pi-lambda.com/event/gentlemens-club-mentoring-session/
LOCATION:Media Arts Academy (Central Middle School)\, 3014 Sealy Ave\, Galveston\, TX 77550\, Galveston\, 77550\, United States
END:VEVENT
BEGIN:VEVENT
DTSTART;TZID=America/Chicago:20181009T183000
DTEND;TZID=America/Chicago:20181009T203000
DTSTAMP:20260424T035251
CREATED:20180728T003634Z
LAST-MODIFIED:20180927T214418Z
UID:2433-1539109800-1539117000@gamma-pi-lambda.com
SUMMARY:Chapter Meeting - October 2018
DESCRIPTION:Old Central Cultural Center
URL:https://gamma-pi-lambda.com/event/chapter-meeting-october-2018/
LOCATION:Old Central H.S. Cultural Center\, Galveston\, 2627 Avenue M\, Galveston\, tx\, 77550
ATTACH;FMTTYPE=image/jpeg:https://gamma-pi-lambda.com/wp-content/uploads/2018/01/EventSepartor.jpg
END:VEVENT
BEGIN:VEVENT
DTSTART;TZID=America/Chicago:20180926T180000
DTEND;TZID=America/Chicago:20180926T203000
DTSTAMP:20260424T035251
CREATED:20180728T002915Z
LAST-MODIFIED:20181008T130108Z
UID:2428-1537984800-1537993800@gamma-pi-lambda.com
SUMMARY:Chapter Meeting - September 2018
DESCRIPTION:Old Central Cultural Center
URL:https://gamma-pi-lambda.com/event/chapter-meeting-september-2018-2/
LOCATION:Old Central H.S. Cultural Center\, Galveston\, 2627 Avenue M\, Galveston\, tx\, 77550
ATTACH;FMTTYPE=image/jpeg:https://gamma-pi-lambda.com/wp-content/uploads/2018/01/EventSepartor.jpg
END:VEVENT
BEGIN:VEVENT
DTSTART;TZID=America/Chicago:20180616T160000
DTEND;TZID=America/Chicago:20180616T210000
DTSTAMP:20260424T035251
CREATED:20180605T174339Z
LAST-MODIFIED:20180605T174339Z
UID:2365-1529164800-1529182800@gamma-pi-lambda.com
SUMMARY:11th Annual Cultural Fest -- Celebration of Freedom
DESCRIPTION:Brothers are encouraged to arrive early 2:30 – 3 pm to assist in set-up of the Health Care  Station.
URL:https://gamma-pi-lambda.com/event/11th-annual-cultural-fest-celebration-of-freedom/
LOCATION:Old Central H.S. Cultural Center\, Galveston\, 2627 Avenue M\, Galveston\, tx\, 77550
END:VEVENT
BEGIN:VEVENT
DTSTART;TZID=America/Chicago:20180528T080000
DTEND;TZID=America/Chicago:20180528T170000
DTSTAMP:20260424T035251
CREATED:20180528T135340Z
LAST-MODIFIED:20180528T135340Z
UID:2304-1527494400-1527526800@gamma-pi-lambda.com
SUMMARY:Gamma Pi Lambda - Chapter Retreat - July 28\, 2018 - Rosenberg Library
DESCRIPTION:
URL:https://gamma-pi-lambda.com/event/gamma-pi-lambda-chapter-retreat-july-28-2018-rosenberg-library/
ATTACH;FMTTYPE=image/jpeg:https://gamma-pi-lambda.com/wp-content/uploads/2017/05/AlphaBuckle.jpg
END:VEVENT
BEGIN:VEVENT
DTSTART;TZID=America/Chicago:20180519T120000
DTEND;TZID=America/Chicago:20180519T140000
DTSTAMP:20260424T035251
CREATED:20180313T135228Z
LAST-MODIFIED:20180406T181458Z
UID:1880-1526731200-1526738400@gamma-pi-lambda.com
SUMMARY:Brother Ennis E. Williams Jr. Scholarship Luncheon
DESCRIPTION:
URL:https://gamma-pi-lambda.com/event/bro-ennis-williams-jr-scholarship-luncheon/
LOCATION:Old Central H.S. Cultural Center\, Galveston\, 2627 Avenue M\, Galveston\, tx\, 77550
CATEGORIES:Jr. Memorial Scholarship Luncheon
END:VEVENT
BEGIN:VEVENT
DTSTART;VALUE=DATE:20180412
DTEND;VALUE=DATE:20180416
DTSTAMP:20260424T035251
CREATED:20180311T133223Z
LAST-MODIFIED:20180311T133223Z
UID:1878-1523491200-1523836799@gamma-pi-lambda.com
SUMMARY:72nd Annual Southwestern Regional Convention
DESCRIPTION:
URL:https://gamma-pi-lambda.com/event/72nd-annual-southwestern-regional-convention/
END:VEVENT
BEGIN:VEVENT
DTSTART;TZID=America/Chicago:20180405T123000
DTEND;TZID=America/Chicago:20180405T150000
DTSTAMP:20260424T035251
CREATED:20180403T020336Z
LAST-MODIFIED:20180403T020533Z
UID:1963-1522931400-1522940400@gamma-pi-lambda.com
SUMMARY:Gentlemen's Club - Media Arts Academies @Central Middle School  -  Thursday\, April 5\, 2018 @ 12:30 pm
DESCRIPTION:
URL:https://gamma-pi-lambda.com/event/gentlemens-club-media-arts-academies-central-middle-school-thursday-april-5-2018-1230-pm/
LOCATION:Media Arts Academy (Central Middle School)\, 3014 Sealy Ave\, Galveston\, TX 77550\, Galveston\, 77550\, United States
CATEGORIES:Gentlemen's Club
END:VEVENT
BEGIN:VEVENT
DTSTART;TZID=America/Chicago:20180328T183000
DTEND;TZID=America/Chicago:20180328T210000
DTSTAMP:20260424T035251
CREATED:20180321T153433Z
LAST-MODIFIED:20180321T153433Z
UID:1893-1522261800-1522270800@gamma-pi-lambda.com
SUMMARY:March Fraternity Meeting:  March 28\, 2018
DESCRIPTION:
URL:https://gamma-pi-lambda.com/event/march-fraternity-meeting-march-28-2018/
LOCATION:Old Central H.S. Cultural Center\, Galveston\, 2627 Avenue M\, Galveston\, tx\, 77550
ATTACH;FMTTYPE=image/jpeg:https://gamma-pi-lambda.com/wp-content/uploads/2017/05/AlphaBuckle.jpg
END:VEVENT
BEGIN:VEVENT
DTSTART;TZID=America/Chicago:20180322T123000
DTEND;TZID=America/Chicago:20180322T150000
DTSTAMP:20260424T035251
CREATED:20180319T042238Z
LAST-MODIFIED:20180319T045444Z
UID:1890-1521721800-1521730800@gamma-pi-lambda.com
SUMMARY:Gentlemen's Club - Media Arts Academies @Central Middle School  -  Thursday\, March 22\, 2018 @ 12:30 pm
DESCRIPTION:
URL:https://gamma-pi-lambda.com/event/gentlemens-club-media-arts-academies-central-middle-school-thursday-march-22-2018-1230-pm/
LOCATION:Media Arts Academy (Central Middle School)\, 3014 Sealy Ave\, Galveston\, TX 77550\, Galveston\, 77550\, United States
END:VEVENT
BEGIN:VEVENT
DTSTART;TZID=America/Chicago:20180228T183000
DTEND;TZID=America/Chicago:20180228T210000
DTSTAMP:20260424T035251
CREATED:20180127T213237Z
LAST-MODIFIED:20180127T213237Z
UID:1817-1519842600-1519851600@gamma-pi-lambda.com
SUMMARY:February 2018 Fraternity Meeting
DESCRIPTION:
URL:https://gamma-pi-lambda.com/event/february-2018-fraternity-meeting/
LOCATION:Old Central H.S. Cultural Center\, Galveston\, 2627 Avenue M\, Galveston\, tx\, 77550
ATTACH;FMTTYPE=image/jpeg:https://gamma-pi-lambda.com/wp-content/uploads/2017/12/Lapha1-e1525403400721.jpg
END:VEVENT
BEGIN:VEVENT
DTSTART;VALUE=DATE:20180214
DTEND;VALUE=DATE:20180218
DTSTAMP:20260424T035251
CREATED:20171030T062121Z
LAST-MODIFIED:20181008T134519Z
UID:1456-1518566400-1518911999@gamma-pi-lambda.com
SUMMARY:54th Annual District Convention of the Texas Council of Alpha Chapters (TCAC)
DESCRIPTION:  \n\n54th Annual District Convention of the Texas Council of Alpha Chapters (TCAC)\nClick here for more details\n  \n 
URL:https://gamma-pi-lambda.com/event/54th-annual-district-convention-of-the-texas-council-of-alpha-chapters-tcac/
ORGANIZER;CN="Brothers of Xi Tau Lambda":MAILTO:espiv0523@verizon.net
END:VEVENT
BEGIN:VEVENT
DTSTART;TZID=America/Chicago:20180208T121500
DTEND;TZID=America/Chicago:20180208T150000
DTSTAMP:20260424T035251
CREATED:20180129T163119Z
LAST-MODIFIED:20180130T162321Z
UID:1819-1518092100-1518102000@gamma-pi-lambda.com
SUMMARY:Central Middle (Media Academy) Gentlemen's Club
DESCRIPTION:7th and 8th Graders
URL:https://gamma-pi-lambda.com/event/central-middle-media-academy-gentlemens-club/
LOCATION:Media Arts Academy (Central Middle School)\, 3014 Sealy Ave\, Galveston\, TX 77550\, Galveston\, 77550\, United States
ATTACH;FMTTYPE=image/jpeg:https://gamma-pi-lambda.com/wp-content/uploads/2017/12/Lapha1-e1525403400721.jpg
END:VEVENT
END:VCALENDAR